Workbook

Sheet Project Information Summary
B2: =_xlfn.CONCAT("Campus Sustainability Fund - Approved Project Information Summary for", " ",C5) -> Campus Sustainability Fund - Approved Project Information Summary for Environmental Learning Experiences for Undergrads
B4: Project Information Summary
B5: Project Name | C5: Environmental Learning Experiences for Undergrads
B6: Department Name | C6: Teaching, Learning, and Sociocultural Studies
B7: Department Account Number | C7: 2558361
B8: Subaccount Number | C8: 26.55
B9: Project Code | C9: AG 26.55
B10: Fiscal Year | C10: FY2026
B11: Project Start Date | C11: July 2025
B12: Project End Date | C12: June 30, 2027
B14: Project Budget Summary
C15: =_xlfn.CONCAT(C10, " ", "Approved Budget") -> FY2026 Approved Budget | D15: =_xlfn.CONCAT(C10, " ", "Expenses") -> FY2026 Expenses | E15: =_xlfn.CONCAT(C10, " ", "Difference") -> FY2026 Difference
B16: Total Full Benefit Employee Wages & ERE | C16: ='Operating Budget'!D6+'Operating Budget'!D13 -> 0 | D16: ='Operating Budget'!E6+'Operating Budget'!E13 -> 0 | E16: ='Operating Budget'!F6+'Operating Budget'!F13 -> 0
B17: Total Ancillary Employee Wages & ERE | C17: ='Operating Budget'!D7+'Operating Budget'!D14 -> 0 | D17: ='Operating Budget'!E7+'Operating Budget'!E14 -> 0 | E17: ='Operating Budget'!F7+'Operating Budget'!F14 -> 0
B18: Total Student Employee Wages & ERE | C18: ='Operating Budget'!D8+'Operating Budget'!D15 -> 16524 | D18: ='Operating Budget'!E8+'Operating Budget'!E15 -> 13371.11 | E18: ='Operating Budget'!F8+'Operating Budget'!F15 -> 3152.89
B19: Total Graduate Assistant Stipends, ERE, & Tuition Remission | C19: ='Operating Budget'!D9+'Operating Budget'!D16+'Operating Budget'!D20 -> 0 | D19: ='Operating Budget'!E9+'Operating Budget'!E16+'Operating Budget'!E20 -> 0 | E19: ='Operating Budget'!F9+'Operating Budget'!F16+'Operating Budget'!F20 -> 0
B20: Total Supplies & Related Operations | C20: ='Operating Budget'!D26 -> 0 | D20: ='Operating Budget'!E26 -> 0 | E20: ='Operating Budget'!F26 -> 0
B21: Total Capital Equipment | C21: ='Operating Budget'!D31 -> 0 | D21: ='Operating Budget'!E31 -> 0 | E21: ='Operating Budget'!F31 -> 0
B22: Total Travel | C22: ='Operating Budget'!D39 -> 0 | D22: ='Operating Budget'!E39 -> 0 | E22: ='Operating Budget'!F39 -> 0
B23: Total Budget | C23: ='Operating Budget'!D47 -> 16600 | D23: =SUM(D16:D22) -> 13371.11 | E23: =C23-D23 -> 3228.89 | F23: ='Operating Budget'!H47 | G23: =IF(F23="OVER APPROVED BUDGET","You appear to have spent outside of your approved budget. Any deficit in this project account is the responsibility of the department/project to fill, not that of the Campus Sustainability Fund. ", " ")
B25: Additional Funding Sources Summary
B26: =_xlfn.CONCAT(C10, " ", "Additional Funding Source(s) & Description(s)") -> FY2026 Additional Funding Source(s) & Description(s) | C26: =_xlfn.CONCAT(C10, " ", "Additional Funding Source(s) Budget") -> FY2026 Additional Funding Source(s) Budget | D26: =_xlfn.CONCAT(C10, " ", "Additional Funding Expenses") -> FY2026 Additional Funding Expenses | E26: =_xlfn.CONCAT(C10, " ", "Difference") -> FY2026 Difference
E27: =C27-D27 -> 0
E28: =B28-D28 -> 0
E29: =B29-D29 -> 0
E30: =B30-D30 -> 0
E31: =B31-D31 -> 0
B32: Total Additional Funding Sources | C32: =SUM(C27:C31) -> 0 | D32: =SUM(D27:D31) -> 0 | E32: =SUM(E27:E31) -> 0
B34: Total Project Funding Across All Sources | C34: =_xlfn.CONCAT(C10, " ", "Approved Project Budget") -> FY2026 Approved Project Budget | D34: =_xlfn.CONCAT(C10," ","Expenses") -> FY2026 Expenses
C35: =SUM(C32,C23) -> 16600 | D35: =D23+D32 -> 13371.11
B37: Percent of Project Funded by the CSF | C37: =_xlfn.CONCAT(C13, " ", "Approved Anticipated Percentage of Funds Provided by the CSF") -> Approved Anticipated Percentage of Funds Provided by the CSF | D37: =_xlfn.CONCAT(C13, " ", "Actual Percentage of Funds Provided by the CSF") -> Actual Percentage of Funds Provided by the CSF | E37: =_xlfn.CONCAT(C13, " ", "Difference") -> Difference
C38: =C23/C35 -> 1 | D38: =D23/D35 -> 1 | E38: =C38-D38 -> 0 | F38: =IF(E38<-10%,"ADDITIONAL FUNDING SOURCES UNDERUTILIZED"," ") | G38: =IF(F38="Additional Funding Sources Underutilized","You appear to have underspent this project's proposed additional funding sources by more than 10%. Misrepresenting additional funding sources may negatively impact future funding decisions.", " ")

Sheet Operating Budget
B2: =_xlfn.CONCAT("Campus Sustainability Fund - Approved Operating Budget for", " ",'Project Information Summary'!C5) -> Campus Sustainability Fund - Approved Operating Budget for Environmental Learning Experiences for Undergrads
B4: Personnel, Employee Related Expenses, & Tuition Remission
B5: Category | C5: Expense Summary | D5: ='Project Information Summary'!C15 -> FY2026 Approved Budget | E5: ='Project Information Summary'!D15 -> FY2026 Expenses | F5: ='Project Information Summary'!E15 -> FY2026 Difference | G5: Notes and/or Justification of Expense
B6: Personnel Wages | C6: Full Benefit Employees (Staff & Faculty) Wages | F6: =D6-E6 -> 0
B7: Personnel Wages | C7: Ancillary Employees Wages | F7: =D7-E7 -> 0
B8: Personnel Wages | C8: Student Employees Wages | D8: 16200 | E8: =SUM(11419.2+1213.75+485.5) -> 13118.45 | F8: =D8-E8 -> 3081.55
B9: Personnel Wages | C9: Graduate Assistants Stipends | F9: =D9-E9 -> 0
B10: Total Personnel Wages | D10: =SUM(D6:D9) -> 16200 | E10: =SUM(E6:E9) -> 13118.45 | F10: =D10-E10 -> 3081.55 | H10: =IF(F10<0,"OVER APPROVED BUDGET"," ") | I10: =IF(H10="OVER APPROVED BUDGET","You appear to have spent outside of your approved budget. If you did not receive an approved Project Alteration Request (PAR), you have violated the Letter of Agreement and will be barred from applying for additional funding for one year. ", " ")
B12: Category | C12: Expense Summary | D12: =$D$5 -> FY2026 Approved Budget | E12: =$E$5 -> FY2026 Expenses | F12: =$F$5 -> FY2026 Difference | G12: Notes and/or Justification of Expense
B13: Employee Related Expenses (ERE) | C13: Full Benefit Employees ERE | F13: =D13-E13 -> 0
B14: Employee Related Expenses (ERE) | C14: Ancillary Employees ERE | F14: =D14-E14 -> 0
B15: Employee Related Expenses (ERE) | C15: Student Employees ERE | D15: 324 | E15: 252.66 | F15: =D15-E15 -> 71.34
B16: Employee Related Expenses (ERE) | C16: Graduate Assistants ERE | F16: =D16-E16 -> 0
B17: Total Employee Related Expenses | D17: =SUM(D13:D16) -> 324 | E17: =SUM(E13:E16) -> 252.66 | F17: =D17-E17 -> 71.34 | H17: =IF(F17<0,"OVER APPROVED BUDGET"," ") | I17: =IF(H17="OVER APPROVED BUDGET","You appear to have spent outside of your approved budget. If you did not receive an approved Project Alteration Request (PAR), you have violated the Letter of Agreement and will be barred from applying for additional funding for one year. ", " ")
B19: Category | C19: Expense Summary | D19: =$D$5 -> FY2026 Approved Budget | E19: =$E$5 -> FY2026 Expenses | F19: =$F$5 -> FY2026 Difference | G19: Notes and/or Justification of Expense
B20: Graduate Assistant Tuition Remission | C20: Graduate Assistant Tuition Remission | F20: =D20-E20 -> 0
B21: Total Tuition Remission | D21: =D20 -> 0 | E21: =E20 -> 0 | F21: =D21-E21 -> 0 | H21: =IF(F21<0,"OVER APPROVED BUDGET"," ") | I21: =IF(H21="OVER APPROVED BUDGET","You appear to have spent outside of your approved budget. If you did not receive an approved Project Alteration Request (PAR), you have violated the Letter of Agreement and will be barred from applying for additional funding for one year. ", " ")
H22: =IF(F22<0,"OVER APPROVED BUDGET"," ") | I22: =IF(H22="OVER APPROVED BUDGET","You have spent outside of your approved budget. You will either need to submit a Project Alteration Request or use departmental funds to cover the difference.", " ")
B23: Supplies & Related Operations | H23: =IF(F23<0,"OVER APPROVED BUDGET"," ") | I23: =IF(H23="OVER APPROVED BUDGET","You have spent outside of your approved budget. You will either need to submit a Project Alteration Request or use departmental funds to cover the difference.", " ")
B24: Category (Object Codes 3000-5935) | C24: Expense Summary | D24: =$D$5 -> FY2026 Approved Budget | E24: =$E$5 -> FY2026 Expenses | F24: =$F$5 -> FY2026 Difference | G24: Notes and/or Justification of Expense | H24: =IF(F24<0,"OVER APPROVED BUDGET"," ") | I24: =IF(H24="OVER APPROVED BUDGET","You have spent outside of your approved budget. You will either need to submit a Project Alteration Request or use departmental funds to cover the difference.", " ")
B25: Supplies/Operations Expenses | F25: =D25-E25 -> 0
B26: Total Supplies & Related Operations | D26: =SUM(D25:D25) -> 0 | E26: =SUM(E25:E25) -> 0 | F26: =SUM(F25:F25) -> 0 | H26: =IF(F26<0,"OVER APPROVED BUDGET"," ") | I26: =IF(H26="OVER APPROVED BUDGET","You appear to have spent outside of your approved budget. If you did not receive an approved Project Alteration Request (PAR), you have violated the Letter of Agreement and will be barred from applying for additional funding for one year. ", " ")
B28: Capital Equipment
B29: Category (Object Codes 6000-6342) | C29: Expense Summary | D29: =$D$5 -> FY2026 Approved Budget | E29: =$E$5 -> FY2026 Expenses | F29: =$F$5 -> FY2026 Difference | G29: Notes and/or Justification of Expense
B30: Capital Equipment | F30: =D30-E30 -> 0
B31: Total Capital Equipment | D31: =SUM(D30:D30) -> 0 | E31: =SUM(E30:E30) -> 0 | F31: =D31-E31 -> 0 | H31: =IF(F31<0,"OVER APPROVED BUDGET"," ") | I31: =IF(H31="OVER APPROVED BUDGET","You appear to have spent outside of your approved budget. If you did not receive an approved Project Alteration Request (PAR), you have violated the Letter of Agreement and will be barred from applying for additional funding for one year. ", " ")
B33: Travel
B34: Category (Object Codes 6000-6342) | C34: Expense Summary | D34: =$D$5 -> FY2026 Approved Budget | E34: =$E$5 -> FY2026 Expenses | F34: =$F$5 -> FY2026 Difference | G34: Notes and/or Justification of Expense
B35: Air Travel | F35: =D35-E35 -> 0
B36: Ground Travel | F36: =D36-E36 -> 0
B37: Hotels | F37: =D37-E37 -> 0
B38: Other Travel | F38: =D38-E38 -> 0
B39: Total Travel | D39: =SUM(D35:D38) -> 0 | E39: =SUM(E35:E38) -> 0 | F39: =D39-E39 -> 0 | H39: =IF(F39<0,"OVER APPROVED BUDGET"," ") | I39: =IF(H39="OVER APPROVED BUDGET","You appear to have spent outside of your approved budget. If you did not receive an approved Project Alteration Request (PAR), you have violated the Letter of Agreement and will be barred from applying for additional funding for one year. ", " ")
B41: Subtotal Annual Grant Approved Budget
D42: =$D$5 -> FY2026 Approved Budget | E42: =$E$5 -> FY2026 Expenses | F42: =$F$5 -> FY2026 Difference | G42: Notes and/or Justification of Expense
B43: Subtotal All Expenses | D43: =SUM(D10,D17,D21,D26,D31,D39,) -> 16524 | E43: =SUM(E10,E17,E21,E26,E31,E39,) -> 13371.11 | F43: =D43-E43 -> 3152.89 | H43: =IF(F43<0,"OVER APPROVED BUDGET"," ") | I43: =IF(H43="OVER APPROVED BUDGET","You appear to have spent outside of your approved budget. If you did not receive an approved Project Alteration Request (PAR), you have violated the Letter of Agreement and will be barred from applying for additional funding for one year. ", " ")
B45: =_xlfn.CONCAT('Project Information Summary'!C10, " ", "Budget Summary") -> FY2026 Budget Summary
D46: =$D$5 -> FY2026 Approved Budget | E46: =$E$5 -> FY2026 Expenses | F46: =$F$5 -> FY2026 Difference | G46: Notes and/or Justification of Expense
B47: Total Project Expenses | D47: =ROUNDUP(D43,-2) -> 16600 | E47: =E43 -> 13371.11 | F47: =D47-E47 -> 3228.89 | H47: =IF(F47<0,"OVER APPROVED BUDGET"," ") | I47: =IF(H47="OVER APPROVED BUDGET","You appear to have spent outside of your approved budget. Any deficit in this project account is the responsibility of the department/project to fill, not that of the Campus Sustainability Fund. ", " ")
B50: Funding Remaining
...
