Workbook

Sheet Instructions & Guidelines
B9: To download this template, click File > Save As > Download a Copy. Uploading this document into Google Sheets breaks the formulas. If you upload this template to Google Sheets to work on it collaboratively, you will need to copy over values into an Excel version of this document as uploading this template to Google Sheet breaks it and will not be accepted.
B11: Campus Sustainability Fund - Annual Grant Funding Request - Instructions & Guidelines
B13: FY2027 Annual Grant Cycle Changes The Campus Sustainability Fund no longer supports multi-year requests. Awards from the CSF are meant to provide seed funding, not long-term funding. Our maximum award is $50,000 for the 2025 – 2026 Annual Grant funding cycle.
B14: Purpose Use this template when applying for funding from the University of Arizona Campus Sustainability Fund. This template applies to the 2025 - 2026 Annual Grant funding cycle.
B15: How to Complete This Template 1. Work with your Fiscal Officer. Prepare your budget with your Fiscal Officer, as they must review and approve this budget before you submit your application. Your budget must follow all university financial policies https://policy.fso.arizona.edu/. 2. Review all three sheets. This template includes three separate sheets, and each must be reviewed and/or completed. Please read the instructions and guidelines on each sheet carefully. Incomplete templates may be ruled ineligible for review. 3. Use the sky blue cells. Only enter information into the sky blue cells on each sheet and, where applicable, mind the pop-up notes.
B16: Submission Please save and submit this file with the following naming format: Project Name_2025-2026 Annual Grant Application.
B17: Additional Information More information and definitions for each sheet can be found in the Additional Info & Definitions sheet. If you need help with the template or believe a formula is incorrect, contact Emily Haworth at emilyhaworth@arizona.edu.

Sheet Annual Grant Personnel Summary
B2: =_xlfn.CONCAT("Campus Sustainability Fund - Annual Grant Funding Request - Personnel Summary for", " ",'Project Information Summary'!C10) -> Campus Sustainability Fund - Annual Grant Funding Request - Personnel Summary for Green Infrastructure, Leadership, and Engagement
B4: Purpose Use this sheet to summarize all personnel expenditures for your project. If you do not have personnel to include in this project, skip this sheet and proceed to the Annual Grant Operating Budget sheet. This sheet auto-populates the Project Information Summary and the Annual Grant Operating Budget sheets. See the Additional Info and Definitions sheet for terms, minimum wage updates, and graduate assistant details.
B5: How to Complete This Sheet 1. Include all relevant personnel. List every university-based employee role to be paid as part of the project. 2. Use employee working titles. Titles help the CSF Committee understand proposed roles. Do not list names of current or anticipated employees. 3. Confirm graduate assistant compensation. Consult your department to confirm Graduate Assistant tuition, stipend, and ERE rates. Formulas in this sheet are projections and may differ from final rates. Do not enter supplemental compensation in the Graduate Assistant table. Contact the CSF if you plan to request supplemental compensation for a GA. 4. Confirm type of compensation. If you plan to pay a person or business that is not a university employee, record the expense on the Operating Budget sheet.
B6: Compensation Guidelines & Limitations • We strongly encourage student Project Managers to include compensation for themselves in the form of either an hourly position below or a stipend. Stipends should be included on the Operating Budget sheet. • Split-share or time buy-outs for existing faculty or staff is eligible, but should be considered sparingly and thoroughly explained in your application. Supplemental compensation is ineligible. • Effective July 1, 2026, the CSF will only fund up to $5,000 per project for compensation of existing faculty or staff, inclusive of wages and employee-related expenses (ERE). • Do not request a rate higher than the employee’s current compensation rate. The CSF will cross-check rates with Human Resources.
B7: Additional Information More information and definitions for each sheet can be found in the Additional Info & Definitions sheet. If you need help with the template or believe a formula is incorrect, contact Emily Haworth at emilyhaworth@arizona.edu.
B9: Full Benefit Employees (Staff & Faculty)
B10: Employee Number | C10: Employee Working Title | D10: Funding Request Amount(s) | J10: Notes
D11: ='Additional Info & Definitions'!$D$15 -> Fiscal Year 2027
D12: Hourly Rate | F12: Hours Per Week | G12: Number of Weeks | H12: Total Wages | I12: Total ERE
B13: Employee #1 | H13: =D13*F13*G13 -> 0 | I13: =H13*'Additional Info & Definitions'!$D$16 -> 0
B14: Employee #2 | H14: =D14*F14*G14 -> 0 | I14: =H14*'Additional Info & Definitions'!$D$16 -> 0
B16: Total Personnel/ERE | G16: =_xlfn.CONCAT('Additional Info & Definitions'!D15," ","Total") -> Fiscal Year 2027 Total | H16: =SUM(H13:H14) -> 0 | I16: =SUM(I13:I14) -> 0 | K16: =IF((OR((SUM(I16,H16))>5000)),"OVER BUDGET"," ") | L16: =IF(K16="OVER BUDGET","Your total budget for employee compensation is over our $5,000 limit. Please reduce your budget for this item to below $5,000 before submitting.", " ")
B19: Student Employees
B20: Employee Number | C20: Employee Working Title | D20: Funding Request Amount(s) | J20: Notes
D21: ='Additional Info & Definitions'!$D$15 -> Fiscal Year 2027
D22: Hourly Rate | F22: Hours Per Week | G22: Number of Weeks | H22: Total Wages | I22: Total ERE
B23: Student Employee #1 | C23: Student Lead - Grad Student | D23: 17 | F23: 3 | G23: 40 | H23: =D23*F23*G23 -> 2040 | I23: =H23*'Additional Info & Definitions'!D19 -> 265.2
B24: Student Employee #2 | C24: Student Lead | D24: 17 | F24: 3 | G24: 40 | H24: =D24*F24*G24 -> 2040 | I24: =H24*'Additional Info & Definitions'!D18 -> 40.8
B25: Student Employee #3 | C25: Student | D25: 17 | F25: 2 | G25: 40 | H25: =D25*F25*G25 -> 1360 | I25: =H25*'Additional Info & Definitions'!$D$18 -> 27.2
B26: Student Employee #4 | C26: Student | D26: 17 | F26: 2 | G26: 40 | H26: =D26*F26*G26 -> 1360 | I26: =H26*'Additional Info & Definitions'!$D$18 -> 27.2
B27: Student Employee #5 | H27: =D27*F27*G27 -> 0 | I27: =H27*'Additional Info & Definitions'!$D$18 -> 0
B29: Total Personnel/ERE | G29: =_xlfn.CONCAT('Additional Info & Definitions'!D15," ","Total") -> Fiscal Year 2027 Total | H29: =SUM(H23:H27) -> 6800 | I29: =SUM(I23:I27) -> 360.4
B32: Graduate Assistants
B33: Graduate Assistant Number | C33: Graduate Assistant Working Title | D33: Funding Request Amount(s) | L33: Notes
D34: Fiscal Year 2027
D35: Stipend Rate | E35: Hourly Stipend Rate | F35: Hours Per Week | G35: Appointment Period | H35: Appointment Weeks | I35: Tuition Remission | J35: Total Stipend | K35: Total ERE | N35: Hours Per Week | O35: Appointment Period
B36: Graduate Assistant #1 | E36: =D36/1600 -> 0 | H36: =IF(G36="Full Fiscal Year", 52, IF(G36="Fall Only Fiscal", 26, IF(G36="Spring Only Fiscal", 26, IF(G36="Full Academic Year", 40, IF(G36="Fall Only Semester", 20, IF(G36="Spring Only Semester", 20,"0")))))) -> 0 | I36: =IF(AND(G36="Full Fiscal Year",F36<20), 'Additional Info & Definitions'!$D$22*2*0.5, IF(OR(G36="Full Fiscal Year",F36>20), 'Additional Info & Definitions'!$D$22*2, IF(AND(G36="Fall Only Fiscal",F36<20), 'Additional Info & Definitions'!$D$22*1*0.5, IF(OR(G36="Fall Only Fiscal",F36>20), 'Additional Info & Definitions'!$D$22*1, IF(AND(G36="Spring Only Fiscal",F36<20), 'Additional Info & Definitions'!$D$22*1*0.5, IF(OR(G36="Spring Only Fiscal",F36>20), 'Additional Info & Definitions'!$D$22*1, IF(AND(G36="Full Academic Year",F36<20), 'Additional Info & Definitions'!$D$22*2*0.5, IF(OR(G36="Full Academic Year",F36>20), 'Additional Info & Definitions'!$D$22*2, IF(AND(G36="Fall Only Semester",F36<20), 'Additional Info & Definitions'!$D$22*1*0.5, IF(OR(G36="Fall Only Semester",F36>20), 'Additional Info & Definitions'!$D$22*1, IF(AND(G36="Spring Only Semester",F36<20), 'Additional Info & Definitions'!$D$22*1*0.5, IF(OR(G36="Spring Only Semester",F36>20), 'Additional Info & Definitions'!$D$22*1," ")))))))))))) | J36: =E36*F36*H36 -> 0 | K36: =J36*'Additional Info & Definitions'!D19 -> 0 | N36: 10 | O36: Full Academic Year
B37: Graduate Assistant #2 | E37: =D37/1600 -> 0 | H37: =IF(G37="Full Fiscal Year", 52, IF(G37="Fall Only Fiscal", 26, IF(G37="Spring Only Fiscal", 26, IF(G37="Full Academic Year", 40, IF(G37="Fall Only Semester", 20, IF(G37="Spring Only Semester", 20,"0")))))) -> 0 | I37: =IF(AND(G37="Full Fiscal Year",F37<20), 'Additional Info & Definitions'!$D$22*2*0.5, IF(OR(G37="Full Fiscal Year",F37>20), 'Additional Info & Definitions'!$D$22*2, IF(AND(G37="Fall Only Fiscal",F37<20), 'Additional Info & Definitions'!$D$22*1*0.5, IF(OR(G37="Fall Only Fiscal",F37>20), 'Additional Info & Definitions'!$D$22*1, IF(AND(G37="Spring Only Fiscal",F37<20), 'Additional Info & Definitions'!$D$22*1*0.5, IF(OR(G37="Spring Only Fiscal",F37>20), 'Additional Info & Definitions'!$D$22*1, IF(AND(G37="Full Academic Year",F37<20), 'Additional Info & Definitions'!$D$22*2*0.5, IF(OR(G37="Full Academic Year",F37>20), 'Additional Info & Definitions'!$D$22*2, IF(AND(G37="Fall Only Semester",F37<20), 'Additional Info & Definitions'!$D$22*1*0.5, IF(OR(G37="Fall Only Semester",F37>20), 'Additional Info & Definitions'!$D$22*1, IF(AND(G37="Spring Only Semester",F37<20), 'Additional Info & Definitions'!$D$22*1*0.5, IF(OR(G37="Spring Only Semester",F37>20), 'Additional Info & Definitions'!$D$22*1," ")))))))))))) | J37: =E37*F37*H37 -> 0 | K37: =J37*'Additional Info & Definitions'!D19 -> 0 | N37: 13.2 | O37: Fall Only Semester
N38: 20 | O38: Spring Only Semester
B39: Total Personnel/ERE/Tuition Remission | H39: Fiscal Year 2027 Total | I39: =SUM(I36:I37) -> 0 | J39: =SUM(J36:J37) -> 0 | K39: =SUM(K36:K37) -> 0 | N39: 26.4

Sheet Annual Grant Operating Budget
B2: =_xlfn.CONCAT("Campus Sustainability Fund - Annual Grant Funding Request - Operating Budget for", " ",'Project Information Summary'!C10) -> Campus Sustainability Fund - Annual Grant Funding Request - Operating Budget for Green Infrastructure, Leadership, and Engagement
B4: Purpose This sheet summarizes your project’s operating budget. See the Additional Info and Definitions sheet for terms, fiscal year details, capital equipment information, and estimate requests from University Facility Services.
B5: How to Complete This Sheet 1. Include all relevant operational expenses. List every anticipated expense associated with your project, including tax. 2. Confirm compensation. If you plan to pay a person or business that is not a university employee, record the expense on the Operating Budget sheet. Student stipends should also be included on the Operating Budget sheet. Add these under “Supplies & Related Operations,” if applicable.
B6: Operating Guidelines & Limitations • Provide clear descriptions for each expense. Go beyond general labels such as “supplies” by noting specifics, for example, “approximately 20 posters for advertising, including design and printing costs” or “anticipated room rental in the Student Union.” • Prioritize local and small businesses for purchases whenever possible. Use large corporate retailers only as a last resort. • Request food funding only if it is critical to project success. Be intentional about vendors and ensure all purchases comply with university financial policies: https://policy.fso.arizona.edu/fsm/900/913. • Annual Grant funds follow the university’s fiscal year schedule, with funding distributed in July or August 2026 and required to be spent by June 30, 2027. Unused funds must be returned to the CSF. • For University Facility Services Estimate Requests, break out costs into labor and materials, and include the estimate request fee as a separate line item. • All budget requests will be rounded up to the nearest $10 and $100 to maintain consistency.
B7: Additional Information More information and definitions for each sheet can be found in the Additional Info & Definitions sheet. If you need help with the template or believe a formula is incorrect, contact Emily Haworth at emilyhaworth@arizona.edu.
B9: Personnel, Employee Related Expenses, & Tuition Remission
B10: Category | C10: Expense Summary | D10: Funding Request Amount(s) | E10: Notes and/or Justification of Expense
D11: ='Additional Info & Definitions'!$D$15 -> Fiscal Year 2027
B12: Personnel Wages | C12: Full Benefit Employees (Staff & Faculty) Wages | D12: ='Annual Grant Personnel Summary'!H16 -> 0
B13: Personnel Wages | C13: Student Employees Wages | D13: ='Annual Grant Personnel Summary'!H29 -> 6800
B14: Personnel Wages | C14: Graduate Assistants Stipends | D14: ='Annual Grant Personnel Summary'!J39 -> 0
B15: Total Personnel Wages | D15: =SUM(D12:D14) -> 6800
B17: Category | C17: Expense Summary | D17: Funding Request Amount(s) | E17: Notes and/or Justification of Expense
D18: ='Additional Info & Definitions'!$D$15 -> Fiscal Year 2027
B19: Employee Related Expenses (ERE) | C19: Full Benefit Employees ERE | D19: ='Annual Grant Personnel Summary'!I16 -> 0
B20: Employee Related Expenses (ERE) | C20: Student Employees ERE | D20: ='Annual Grant Personnel Summary'!I29 -> 360.4
B21: Employee Related Expenses (ERE) | C21: Graduate Assistants ERE | D21: ='Annual Grant Personnel Summary'!K39 -> 0
B22: Total Employee Related Expenses | D22: =SUM(D19:D21) -> 360.4
B24: Category | C24: Expense Summary | D24: Funding Request Amount(s) | E24: Notes and/or Justification of Expense
D25: ='Additional Info & Definitions'!$D$15 -> Fiscal Year 2027
B26: Graduate Assistant Tuition Remission | C26: Graduate Assistant Tuition Remission | D26: ='Annual Grant Personnel Summary'!I39 -> 0
B27: Total Tuition Remission | D27: =D26 -> 0
B29: Supplies & Related Operations
B30: Category (Object Codes 3000-5935) | C30: Expense Summary | D30: Funding Request Amount(s) | E30: Notes and/or Justification of Expense
D31: ='Additional Info & Definitions'!$D$15 -> Fiscal Year 2027
B32: Supplies/Operations Expenses | C32: Field tools | D32: 550 | E32: iPad, software
B33: Supplies/Operations Expenses | C33: Signs | D33: 3500 | E33: Small and large signs combined
B34: Supplies/Operations Expenses | C34: Campus Agriculture Center Plot | D34: 4000
B35: Supplies/Operations Expenses | C35: *Supplemental award to cover wages | D35: 904 | E35: *requested by CSF to cover student wages
B36: Supplies/Operations Expenses
B37: Supplies/Operations Expenses
B38: Supplies/Operations Expenses
B39: Supplies/Operations Expenses
B40: Supplies/Operations Expenses
B41: Supplies/Operations Expenses
B42: Total Supplies & Related Operations | D42: =SUM(D32:D41) -> 8954
B44: Capital Equipment
B45: Category (Object Codes 6000-6342) | C45: Expense Summary | D45: Funding Request Amount(s) | E45: Notes and/or Justification of Expense
D46: ='Additional Info & Definitions'!$D$15 -> Fiscal Year 2027
B47: Capital Equipment
...

Sheet Project Information Summary
B2: =_xlfn.CONCAT("Campus Sustainability Fund - Annual Grant Funding Request - Project Information Summary for", " ",C10) -> Campus Sustainability Fund - Annual Grant Funding Request - Project Information Summary for Green Infrastructure, Leadership, and Engagement
B4: Purpose This sheet is a high-level summary of all project information contained in this workbook. It also provides space to record additional funding sources, if applicable.
B5: How to Complete This Sheet 1. Enter your project name. This will automatically appear at the top of every sheet in the workbook. 2. Review the Project Budget Summary. This section fills automatically from the Personnel Summary and Operating Budget sheets. Confirm accuracy before submitting. 3. Disclose all supporting funds. Include matching or partial matching funds from departments, other grants, and any in-kind support, along with their amounts. Additional funding is not required, but may strengthen your proposal.
B6: Submission Please save and submit this file with the following naming format: Project Name_2025-2026 Annual Grant Application.
B7: Additional Information More information and definitions for each sheet can be found in the Additional Info & Definitions sheet. If you need help with the template or believe a formula is incorrect, contact Emily Haworth at emilyhaworth@arizona.edu.
B9: Project Information Summary
B10: Project Name | C10: Green Infrastructure, Leadership, and Engagement
B11: Department Name (no abbreviations please) | C11: College of Architecture, Planning, and Landscape Architecture
B12: KFS Account Number | C12: 2558369
B13: Subaccount Number | C13: GILE
B14: Project Start Date | C14: July 1, 2026
B15: Project End Date | C15: May 14, 2027
B17: Project Budget Summary
C18: ='Additional Info & Definitions'!$D$15 -> Fiscal Year 2027
B19: Total Full Benefit Employee Wages & ERE | C19: ='Annual Grant Operating Budget'!D12+'Annual Grant Operating Budget'!D19 -> 0
B20: Total Student Employee Wages & ERE | C20: ='Annual Grant Operating Budget'!D13+'Annual Grant Operating Budget'!D20 -> 7160.4
B21: Total Graduate Assistant Stipends, ERE, & Tuition Remission | C21: ='Annual Grant Operating Budget'!D14+'Annual Grant Operating Budget'!D21+'Annual Grant Operating Budget'!D26 -> 0
B22: Total Supplies & Related Operations | C22: ='Annual Grant Operating Budget'!D42 -> 8954
B23: Total Capital Equipment | C23: ='Annual Grant Operating Budget'!D52 -> 0
B24: Total Travel | C24: ='Annual Grant Operating Budget'!D64 -> 0
B25: Total Annual Grant Funding Request | C25: ='Annual Grant Operating Budget'!D72 -> 16200 | E25: ='Annual Grant Operating Budget'!F72 | F25: =IF(E25="OVER BUDGET","Your total budget is over our $50,000 limit. Please reduce your budget to below $50,000 before submitting.", " ")
B27: Additional Funding Sources Summary
B28: Additional Funding Source(s) & Description(s) | C28: ='Additional Info & Definitions'!$D$15 -> Fiscal Year 2027
B34: Total Additional Funding Sources | C34: =SUM(C29:C33) -> 0
B36: Total Project Funding Across All Sources | C36: =C25+C34 -> 16200
B38: Percent of Project Funded by the CSF | C38: =C25/C36 -> 1

Sheet Additional Info & Definitions
B9: Campus Sustainability Fund - Annual Grant Funding Request - Additional Information & Definitions
B11: Personnel Summary Information & Definitions
B12: Minimum Wage Please ensure that all hourly rates meet at least the current minimum wage. The minimum wage for staff members is $16.50 per hour, effective July 1, 2025. The minimum wage for student employees is $15.15 per hour, effective December 22, 2025. Please use these current rates for planning purposes.
B13: Student Stipends We strongly encourage compensation for students to come in the form of hourly positions; however, there are circumstances where stipends are more appropriate and/or easier to process.
B14: Employee Related Expenses (ERE) The University of Arizona provides employees with essential benefits, including health insurance, retirement plans, workers’ compensation, and liability coverage. These benefits are referred to as employee-related expenses (ERE). ERE applies to all non-stipended positions and is automatically calculated.
D15: Fiscal Year 2027
C16: Full Benefit Employees ERE | D16: 0.32
C17: Ancillary Employees ERE | D17: 0.156
C18: Student Employees ERE | D18: 0.02
C19: Graduate Assistants ERE | D19: 0.13 | E19: These rates may not be final and should only be used here for planning purposes.
B20: Graduate Assistants Graduate Assistantships are available only to graduate students enrolled in a graduate degree-seeking program. Graduate students may also hold regular student employee positions alongside undergraduates, but these roles are distinct from Graduate Assistantships (see Workload Policy 1: https://grad.arizona.edu/funding/ga/graduate-assistant-and-associate-workload-policy). Graduate Assistants (GAs) may be appointed at one of four possible full-time equivalent (FTE) levels: • 0.25 FTE (10 hours per week) • 0.33 FTE (13.2 hours per week) • 0.50 FTE (20 hours per week) • 0.66 FTE (26.4 hours per week) International students are limited to 0.50 FTE or less due to visa requirements. GAs appointed during the Fall and/or Spring semesters are eligible for tuition remission, which reduces the tuition charged (see: https://grad.arizona.edu/funding/ga/benefits-appointment). Tuition remission depends on FTE, enrollment, and appointment period: • Appointments below 0.50 FTE receive 50% tuition remission. • Appointments of 0.50 FTE or more receive 100% tuition remission. Tuition remission applies only to base graduate tuition and is automatically calculated.
D21: =D15 -> Fiscal Year 2027
C22: Graduate Base Tuition Rate | D22: 7750 | E22: This rate may not be final and should only be used here for planning purposes.
B25: Operating Budget Information & Definitions
B26: Fiscal Year The university operates on fiscal years, which run from July 1 through June 30. For example, fiscal year 2027 (FY 2027) is July 1, 2026 to June 30, 2027. All funding must be spent by May 14, 2027. Funding can not roll over from one year to the next.
B27: Capital Equipment The University defines capital equipment as an item which has a cost or fair market value of $5,000 or more (https://policy.fso.arizona.edu/pmm/200/210). For the purposes of this application, any single item that would be considered a supply as part of your project and costs $5,000 or more should be placed under "Capital Equipment." If you are not sure about where something should be considered capital equipment or not, please reach out to Emily Haworth at emilyhaworth@arizona.edu.
B28: Estimate Request from University Facility Services Generating estimates is not a free service. However, UFS has granted the Campus Sustainability Fund program an exception, and departments will not have to pay for the estimate up front. Applicants must build the fee for the estimate into their budget proposal and CSF will pay for this service only if funded. The fees are a separate expense that does not count toward the total Renovation Cost. Charge for Estimates: • $100 Less than $10,000 • $500 Between $10,000 and $50,000 • $750 Between $50,000 and $100,000 • $1,000 Greater than $100,000
